BEGIN:VCALENDAR
VERSION:2.0
PRODID:-//North Carolina Sea Grant - ECPv6.15.20//NONSGML v1.0//EN
CALSCALE:GREGORIAN
METHOD:PUBLISH
X-WR-CALNAME:North Carolina Sea Grant
X-ORIGINAL-URL:https://ncseagrant.ncsu.edu
X-WR-CALDESC:Events for North Carolina Sea Grant
REFRESH-INTERVAL;VALUE=DURATION:PT1H
X-Robots-Tag:noindex
X-PUBLISHED-TTL:PT1H
BEGIN:VTIMEZONE
TZID:America/New_York
BEGIN:DAYLIGHT
TZOFFSETFROM:-0500
TZOFFSETTO:-0400
TZNAME:EDT
DTSTART:20220313T070000
END:DAYLIGHT
BEGIN:STANDARD
TZOFFSETFROM:-0400
TZOFFSETTO:-0500
TZNAME:EST
DTSTART:20221106T060000
END:STANDARD
BEGIN:DAYLIGHT
TZOFFSETFROM:-0500
TZOFFSETTO:-0400
TZNAME:EDT
DTSTART:20230312T070000
END:DAYLIGHT
BEGIN:STANDARD
TZOFFSETFROM:-0400
TZOFFSETTO:-0500
TZNAME:EST
DTSTART:20231105T060000
END:STANDARD
BEGIN:DAYLIGHT
TZOFFSETFROM:-0500
TZOFFSETTO:-0400
TZNAME:EDT
DTSTART:20240310T070000
END:DAYLIGHT
BEGIN:STANDARD
TZOFFSETFROM:-0400
TZOFFSETTO:-0500
TZNAME:EST
DTSTART:20241103T060000
END:STANDARD
END:VTIMEZONE
BEGIN:VEVENT
DTSTART;VALUE=DATE:20231001
DTEND;VALUE=DATE:20231101
DTSTAMP:20260421T032109
CREATED:20230928T162945Z
LAST-MODIFIED:20230928T174323Z
UID:10000001-1696118400-1698796799@ncseagrant.ncsu.edu
SUMMARY:Shellebrate NC Oyster Month in October
DESCRIPTION:Join us each October as we “shellebrate” the history\, culture\, economy\, and ecology of oysters in North Carolina! \nOysters play an important role in coastal communities. In the environment\, oysters improve water quality and create habitat for other animals. Their unique flavor makes them a desirable dish\, supporting the livelihoods of watermen and local economies across the state. In years past\, the N.C. Department of Natural and Cultural Resources\, NC Oyster Trail\, North Carolina Sea Grant\, and the NC Coastal Federation partnered to bring you a week of oyster facts\, resources\, and programming. In 2023\, we will put on NC OYSTER MONTH. Y’all get ready! \nWe share NC Oyster Month information on social media using the hashtags #NCOysterMonth #NCOysters #GiveAShuck #KeepShuckin’. \nView the full list of events at NC Oyster Trail
URL:https://ncseagrant.ncsu.edu/event/shellebrate-nc-oyster-month-in-october/
LOCATION:NC
CATEGORIES:All Events
ATTACH;FMTTYPE=image/jpeg:https://ncseagrant.ncsu.edu/wp-content/uploads/2023/09/3386t_20210617_by_Justin_Kase_Conder_3386-scaled.jpg
END:VEVENT
BEGIN:VEVENT
DTSTART;VALUE=DATE:20231006
DTEND;VALUE=DATE:20231009
DTSTAMP:20260421T032109
CREATED:20230928T165532Z
LAST-MODIFIED:20231006T192821Z
UID:10000002-1696550400-1696809599@ncseagrant.ncsu.edu
SUMMARY:North Carolina Seafood Festival
DESCRIPTION:The North Carolina Seafood Festival is in its 37th year. \nThe North Carolina Seafood Festival is a non-profit organization of Carteret county citizens and business people\, in conjunction with the town of Morehead City\, NC. Recognizing the importance of seafood to eastern North Carolina\, Seafood Festival\, Inc.\, is organized to develop and conduct a festival every year\, the first weekend in October\, to: promote the positive social and economic impact of the seafood industry on the citizens of North Carolina; educate the public about seafood and its importance to the state economy; publicize the wide variety of seafood indigenous to North Carolina and provide the opportunity for people to enjoy it; boost tourism and recreation in eastern North Carolina in the non-summer months; establish a scholarship program for educational pursuits related to the seafood industry; provide the opportunity for North Carolina non-profit\, civic\, church and educational organizations to raise funds through participation in the festival. \nJoin the StriperHub team and learn more about the project while enjoying some delicious fish at the Got to be NC Seafood Cooking Stage \nFestival proceeds are shared with community organizations who donate their efforts to the event. Since 1987\, over $1.8 million has been dispersed among participating Carteret County non-profit groups. \nSaturday 10/7\n4:00 – 4:45: Sautéed Striped Bass with Garlic-Basil Butter \nfeaturing Chef Caroline Dominguez (Carteret Local Food Network\, NC Sea Grant\, & StriperHub) \nSunday 10/8\n3:00 – 3:45: Sautéed Striped Bass with Garlic-Basil Butter \nfeaturing Chef Caroline Dominguez (Carteret Local Food Network\, NC Sea Grant\, & StriperHub) \nAlso check for NC Oyster Month events at the festival\, listed on the calendar at ncoystertrail.org.
URL:https://ncseagrant.ncsu.edu/event/north-carolina-seafood-festival/
LOCATION:North Carolina Seafood Festival\, 412 D Evans Street\, Morehead City\, NC\, 28557\, United States
CATEGORIES:All Events,Education and Outreach
ATTACH;FMTTYPE=image/jpeg:https://ncseagrant.ncsu.edu/wp-content/uploads/2023/09/chef-seafood-fest-small.jpg
END:VEVENT
BEGIN:VEVENT
DTSTART;TZID=America/New_York:20231007T100000
DTEND;TZID=America/New_York:20231007T150000
DTSTAMP:20260421T032109
CREATED:20231006T192503Z
LAST-MODIFIED:20231006T193221Z
UID:10000005-1696672800-1696690800@ncseagrant.ncsu.edu
SUMMARY:UNCW Center for Marine Science Open House
DESCRIPTION:Join NC Sea Grant extension specialists based at the UNCW Center for Marine Science — and maybe even a famous retiree — sharing updates on our research and outreach. Also\, look for researchers and graduate students working on projects we have funded.  Learn more at: uncw.edu/research/centers/marine-science/
URL:https://ncseagrant.ncsu.edu/event/uncw-center-for-marine-science-open-house/
LOCATION:UNCW Center for Marine Science\, 5600 Marvin Moss Lane\, Wilmington\, NC\, United States
CATEGORIES:Education and Outreach
END:VEVENT
END:VCALENDAR