BEGIN:VCALENDAR
VERSION:2.0
PRODID:-//North Carolina Sea Grant - ECPv6.15.20//NONSGML v1.0//EN
CALSCALE:GREGORIAN
METHOD:PUBLISH
X-WR-CALNAME:North Carolina Sea Grant
X-ORIGINAL-URL:https://ncseagrant.ncsu.edu
X-WR-CALDESC:Events for North Carolina Sea Grant
REFRESH-INTERVAL;VALUE=DURATION:PT1H
X-Robots-Tag:noindex
X-PUBLISHED-TTL:PT1H
BEGIN:VTIMEZONE
TZID:America/New_York
BEGIN:DAYLIGHT
TZOFFSETFROM:-0500
TZOFFSETTO:-0400
TZNAME:EDT
DTSTART:20230312T070000
END:DAYLIGHT
BEGIN:STANDARD
TZOFFSETFROM:-0400
TZOFFSETTO:-0500
TZNAME:EST
DTSTART:20231105T060000
END:STANDARD
BEGIN:DAYLIGHT
TZOFFSETFROM:-0500
TZOFFSETTO:-0400
TZNAME:EDT
DTSTART:20240310T070000
END:DAYLIGHT
BEGIN:STANDARD
TZOFFSETFROM:-0400
TZOFFSETTO:-0500
TZNAME:EST
DTSTART:20241103T060000
END:STANDARD
BEGIN:DAYLIGHT
TZOFFSETFROM:-0500
TZOFFSETTO:-0400
TZNAME:EDT
DTSTART:20250309T070000
END:DAYLIGHT
BEGIN:STANDARD
TZOFFSETFROM:-0400
TZOFFSETTO:-0500
TZNAME:EST
DTSTART:20251102T060000
END:STANDARD
END:VTIMEZONE
BEGIN:VEVENT
DTSTART;VALUE=DATE:20240321
DTEND;VALUE=DATE:20240324
DTSTAMP:20260424T085436
CREATED:20240213T173720Z
LAST-MODIFIED:20240213T174100Z
UID:10000024-1710979200-1711238399@ncseagrant.ncsu.edu
SUMMARY:2024 North Carolina Aquaculture Development Conference
DESCRIPTION:Information about the Conference \nThis conference is designed to bring together the general public\, current and prospective fish farmers\, scientists\, and personnel from regulatory agencies to share information and ideas about the development of aquaculture in North Carolina. \nAttendees will learn about several topics relevant to aquaculture species in North Carolina and find out about the latest aquaculture equipment and products by browsing the ongoing trade show. \nOur famous NC Cultured Seafood Festival is an ‘all you care to eat…’ gathering to close out Friday’s activities\, and targeted workshops will wrap up the conference on Saturday morning. \nWho Should Attend \nAnyone with an interest in fish or shellfish farming\, including prospective growers\, researchers\, teachers\, students or agency persons with jobs related to aquaculture. The conference is also suited to companies that sell goods or services to the aquaculture industry. \nRegister
URL:https://ncseagrant.ncsu.edu/event/2024-north-carolina-aquaculture-development-conference/
LOCATION:New Bern Riverfront Convention Center\, 03 S Front St\, New Bern\, NC\, 28560\, United States
CATEGORIES:All Events,Education and Outreach,Workforce Development and Workshops
ATTACH;FMTTYPE=image/png:https://ncseagrant.ncsu.edu/wp-content/uploads/2024/02/striperhub_hero-small-square-for-canva-e1707845725627.png
END:VEVENT
END:VCALENDAR