BEGIN:VCALENDAR
VERSION:2.0
PRODID:-//North Carolina Sea Grant - ECPv6.15.20//NONSGML v1.0//EN
CALSCALE:GREGORIAN
METHOD:PUBLISH
X-WR-CALNAME:North Carolina Sea Grant
X-ORIGINAL-URL:https://ncseagrant.ncsu.edu
X-WR-CALDESC:Events for North Carolina Sea Grant
REFRESH-INTERVAL;VALUE=DURATION:PT1H
X-Robots-Tag:noindex
X-PUBLISHED-TTL:PT1H
BEGIN:VTIMEZONE
TZID:America/New_York
BEGIN:DAYLIGHT
TZOFFSETFROM:-0500
TZOFFSETTO:-0400
TZNAME:EDT
DTSTART:20230312T070000
END:DAYLIGHT
BEGIN:STANDARD
TZOFFSETFROM:-0400
TZOFFSETTO:-0500
TZNAME:EST
DTSTART:20231105T060000
END:STANDARD
BEGIN:DAYLIGHT
TZOFFSETFROM:-0500
TZOFFSETTO:-0400
TZNAME:EDT
DTSTART:20240310T070000
END:DAYLIGHT
BEGIN:STANDARD
TZOFFSETFROM:-0400
TZOFFSETTO:-0500
TZNAME:EST
DTSTART:20241103T060000
END:STANDARD
BEGIN:DAYLIGHT
TZOFFSETFROM:-0500
TZOFFSETTO:-0400
TZNAME:EDT
DTSTART:20250309T070000
END:DAYLIGHT
BEGIN:STANDARD
TZOFFSETFROM:-0400
TZOFFSETTO:-0500
TZNAME:EST
DTSTART:20251102T060000
END:STANDARD
END:VTIMEZONE
BEGIN:VEVENT
DTSTART;TZID=America/New_York:20240611T170000
DTEND;TZID=America/New_York:20240611T181500
DTSTAMP:20260422T235304
CREATED:20240405T150004Z
LAST-MODIFIED:20240405T150004Z
UID:10000027-1718125200-1718129700@ncseagrant.ncsu.edu
SUMMARY:River Critters and Pond Pals – Stream Exploration
DESCRIPTION:Have you ever seen a dragonfly in the winter? How about a mayfly? Where do these animals go once it turns cold\, and where do they come from when it starts to warm up? Freshwater macroinvertebrates can tell us many important features about their habitat. They are storytellers about the health of the ecosystem. Are there pollutants in the water? Let’s ask the leeches. Do these waters support lots of species? Let’s ask the caddisfly. \nJoin HAWK and Dr. Erika Young\, the Coastal and Marine Education Specialist for North Carolina Sea Grant\, for a special hands-on stream exploration opportunity for kids followed by a pizza dinner! Please register now as spots are limited! There will be many specimens to observe\, a scientific key to identify species\, and a game to match the larval form to the adult form. Registration is required for this evening of adventurous fun at the Matthews Community Center. \nRegister
URL:https://ncseagrant.ncsu.edu/event/river-critters-and-pond-pals-stream-exploration/
LOCATION:Matthews\, NC
CATEGORIES:All Events,Education and Outreach
ATTACH;FMTTYPE=image/jpeg:https://ncseagrant.ncsu.edu/wp-content/uploads/2024/04/rivercritters.jpg
END:VEVENT
END:VCALENDAR