BEGIN:VCALENDAR
VERSION:2.0
PRODID:-//North Carolina Sea Grant - ECPv6.15.20//NONSGML v1.0//EN
CALSCALE:GREGORIAN
METHOD:PUBLISH
X-WR-CALNAME:North Carolina Sea Grant
X-ORIGINAL-URL:https://ncseagrant.ncsu.edu
X-WR-CALDESC:Events for North Carolina Sea Grant
REFRESH-INTERVAL;VALUE=DURATION:PT1H
X-Robots-Tag:noindex
X-PUBLISHED-TTL:PT1H
BEGIN:VTIMEZONE
TZID:America/New_York
BEGIN:DAYLIGHT
TZOFFSETFROM:-0500
TZOFFSETTO:-0400
TZNAME:EDT
DTSTART:20240310T070000
END:DAYLIGHT
BEGIN:STANDARD
TZOFFSETFROM:-0400
TZOFFSETTO:-0500
TZNAME:EST
DTSTART:20241103T060000
END:STANDARD
BEGIN:DAYLIGHT
TZOFFSETFROM:-0500
TZOFFSETTO:-0400
TZNAME:EDT
DTSTART:20250309T070000
END:DAYLIGHT
BEGIN:STANDARD
TZOFFSETFROM:-0400
TZOFFSETTO:-0500
TZNAME:EST
DTSTART:20251102T060000
END:STANDARD
BEGIN:DAYLIGHT
TZOFFSETFROM:-0500
TZOFFSETTO:-0400
TZNAME:EDT
DTSTART:20260308T070000
END:DAYLIGHT
BEGIN:STANDARD
TZOFFSETFROM:-0400
TZOFFSETTO:-0500
TZNAME:EST
DTSTART:20261101T060000
END:STANDARD
END:VTIMEZONE
BEGIN:VEVENT
DTSTART;TZID=America/New_York:20250813T170000
DTEND;TZID=America/New_York:20250813T190000
DTSTAMP:20260423T032855
CREATED:20250721T144549Z
LAST-MODIFIED:20250721T144931Z
UID:10000036-1755104400-1755111600@ncseagrant.ncsu.edu
SUMMARY:Meet the Makers: Oyster Photo Exhibit & Reception
DESCRIPTION:Join the North Carolina Coastal Federation on the evening of Wednesday\, August 13th for a special reception celebrating the traveling Oyster Photo Exhibit\, a collaborative project of North Carolina Sea Grant and the NC Oyster Trail. This inspiring exhibit highlights the hardworking individuals behind North Carolina’s growing oyster industry and honors the ecological\, cultural\, and economic value of oysters to our coast. \nThe exhibit features photography by Justin Kase Conder that highlights the importance of oysters to North Carolina\, including how they are grown and where to purchase local shellfish. \nRSVP for the exhibit reception HERE. RSVPs are not required but appreciated. \nContact Jane Harrison for information about the exhibit reception or hosting the exhibit at your next event: jane_harrison@ncsu.edu \nInformation on the Exhibit can be found here: https://ncoystertrail.org/traveling-oyster-photo-exhibit \nRead more about the Exhibit here: https://ncseagrant.ncsu.edu/meet-the-makers-oyster-photo-exhibit-reception/ \nSubmit this form if you would like to host the exhibit in your own community.
URL:https://ncseagrant.ncsu.edu/event/meet-the-makers-oyster-photo-exhibit-reception/
LOCATION:North Carolina Coastal Federation – Southeast Office & Stanback Coastal Education Center\, 309 W Salisbury St\, Wrightsville Beach\, NC\, 28480\, United States
ATTACH;FMTTYPE=image/png:https://ncseagrant.ncsu.edu/wp-content/uploads/2025/07/7-1.png
END:VEVENT
END:VCALENDAR